BEGIN:VCALENDAR
VERSION:2.0
PRODID:-//Festiwo - ECPv6.15.20//NONSGML v1.0//EN
CALSCALE:GREGORIAN
METHOD:PUBLISH
X-WR-CALNAME:Festiwo
X-ORIGINAL-URL:https://en.festtr.com
X-WR-CALDESC:Events for Festiwo
REFRESH-INTERVAL;VALUE=DURATION:PT1H
X-Robots-Tag:noindex
X-PUBLISHED-TTL:PT1H
BEGIN:VTIMEZONE
TZID:Europe/Istanbul
BEGIN:STANDARD
TZOFFSETFROM:+0300
TZOFFSETTO:+0300
TZNAME:+03
DTSTART:20250101T000000
END:STANDARD
END:VTIMEZONE
BEGIN:VEVENT
DTSTART;TZID=Europe/Istanbul:20260420T050000
DTEND;TZID=Europe/Istanbul:20260425T045900
DTSTAMP:20260421T175731
CREATED:20240125T024844Z
LAST-MODIFIED:20260412T032418Z
UID:10000272-1776661200-1777093140@en.festtr.com
SUMMARY:La Biennale Di Arte - Biennale Arte
DESCRIPTION:The 60th International Art Exhibition will take place from Saturday 20 April to Sunday 24 November\, 2024 (pre-opening on April 17\, 18 and 19)\, curated by Adriano Pedrosa.
URL:https://en.festtr.com/festival/biennale-arte/
LOCATION:Italy\, Roma\, Roma\, Italy
CATEGORIES:Art Festival
ATTACH;FMTTYPE=image/jpeg:https://en.festtr.com/wp-content/uploads/biennale-arte-25.01.2024-05-46-47.jpg
END:VEVENT
BEGIN:VEVENT
DTSTART;TZID=Europe/Istanbul:20260422T050000
DTEND;TZID=Europe/Istanbul:20260425T045900
DTSTAMP:20260421T175731
CREATED:20210304T204223Z
LAST-MODIFIED:20260412T024132Z
UID:10000235-1776834000-1777093140@en.festtr.com
SUMMARY:Motel Mozaique Festival
DESCRIPTION:Motel Mozaique will be held in April 2021.
URL:https://en.festtr.com/festival/motel-mozaique/
LOCATION:Netherlands\, Netherlands
CATEGORIES:Art Festival,Music Festival
ATTACH;FMTTYPE=image/jpeg:https://en.festtr.com/wp-content/uploads/genel-muzik-04.03.2021-20-23-22.jpg
END:VEVENT
BEGIN:VEVENT
DTSTART;TZID=Europe/Istanbul:20260423T050000
DTEND;TZID=Europe/Istanbul:20260425T045900
DTSTAMP:20260421T175731
CREATED:20210304T204939Z
LAST-MODIFIED:20260412T024159Z
UID:10000236-1776920400-1777093140@en.festtr.com
SUMMARY:Rampage Festival
DESCRIPTION:It’s the biggest drum and bass and dubstep party in the universe.
URL:https://en.festtr.com/festival/rampage-festival/
LOCATION:Belgium\, PRC de Schorre\, Schommelei\, Boom\, 2850\, Belgium
CATEGORIES:Music Festival
ATTACH;FMTTYPE=image/jpeg:https://en.festtr.com/wp-content/uploads/rampagebelgium-04.03.2021-23-48-36.jpg
END:VEVENT
BEGIN:VEVENT
DTSTART;TZID=Europe/Istanbul:20260423T050000
DTEND;TZID=Europe/Istanbul:20260426T045900
DTSTAMP:20260421T175731
CREATED:20210304T211306Z
LAST-MODIFIED:20260412T021918Z
UID:10000237-1776920400-1777179540@en.festtr.com
SUMMARY:Something in the Water Festival
DESCRIPTION:Organized by Pharrell Williams in his hometown of Virginia Beach\, Something in the Water Festival features a star-studded\, varied lineup of artists in a variety of genres. Instead of the typical three day\, weekend event\, the festival spans over the course of a week. Although it’s a new festival in the circuit with only a couple years under its belt\, Something in the Water brings a cultural and musical experience for all attendees to enjoy.
URL:https://en.festtr.com/festival/something-in-the-water-festival/
LOCATION:USA\, CA\, 92201\, United States
CATEGORIES:Music Festival
ATTACH;FMTTYPE=image/jpeg:https://en.festtr.com/wp-content/uploads/something_in_the_water_editorial-05.03.2021-00-09-36.jpg
END:VEVENT
BEGIN:VEVENT
DTSTART;TZID=Europe/Istanbul:20260424T050000
DTEND;TZID=Europe/Istanbul:20260426T045900
DTSTAMP:20260421T175731
CREATED:20210304T213727Z
LAST-MODIFIED:20260412T024222Z
UID:10000239-1777006800-1777179540@en.festtr.com
SUMMARY:Ubbi Dubbi Fest
DESCRIPTION:Ubbi Dubbi Fest will be held in April 2021. \nAfter a successful debut year in 2019\, Ubbi Dubbi returns to Fort Worth showcasing a plethora of electronic acts to the heart of Texas. From house and dubstep to techno and trap\, festival attendees can rest assured they’ll get a taste of the best electronic music in the market today.
URL:https://en.festtr.com/festival/ubbi-dubbi-fest/
LOCATION:USA\, CA\, 92201\, United States
CATEGORIES:Music Festival
ATTACH;FMTTYPE=image/jpeg:https://en.festtr.com/wp-content/uploads/ubbi-dubbi-fest-05.03.2021-00-33-17.jpg
END:VEVENT
BEGIN:VEVENT
DTSTART;TZID=Europe/Istanbul:20260426T050000
DTEND;TZID=Europe/Istanbul:20260429T045900
DTSTAMP:20260421T175731
CREATED:20240206T022244Z
LAST-MODIFIED:20260412T032457Z
UID:10000401-1777179600-1777438740@en.festtr.com
SUMMARY:Sónar Istanbul
DESCRIPTION:Sónar Istanbul Festivali will be held in April
URL:https://en.festtr.com/festival/sonar-istanbul/
LOCATION:Turkey\, Ankara\, Ankara\, Turkey
CATEGORIES:Music Festival
ATTACH;FMTTYPE=image/jpeg:https://en.festtr.com/wp-content/uploads/sonar-istanbul-6.02.2024-04-22-52.jpg
END:VEVENT
BEGIN:VEVENT
DTSTART;TZID=Europe/Istanbul:20260426T050000
DTEND;TZID=Europe/Istanbul:20260429T045900
DTSTAMP:20260421T175731
CREATED:20240214T013822Z
LAST-MODIFIED:20260412T032507Z
UID:10000408-1777179600-1777438740@en.festtr.com
SUMMARY:Summer Breeze Brasil
DESCRIPTION:Summer Breeze Brasil will be held in April.
URL:https://en.festtr.com/festival/summer-breeze-brasil/
LOCATION:Brazil\, Brazil
CATEGORIES:Music Festival
ATTACH;FMTTYPE=image/jpeg:https://en.festtr.com/wp-content/uploads/summerbreeze.brasil-14.02.2024-04-34-53.jpg
END:VEVENT
BEGIN:VEVENT
DTSTART;TZID=Europe/Istanbul:20260428T050000
DTEND;TZID=Europe/Istanbul:20260501T045900
DTSTAMP:20260421T175731
CREATED:20210304T211948Z
LAST-MODIFIED:20260412T031033Z
UID:10000238-1777352400-1777611540@en.festtr.com
SUMMARY:Norman Music Festival
DESCRIPTION:Norman Music Festival will be held in April 2022.
URL:https://en.festtr.com/festival/norman-music-festival/
LOCATION:USA\, CA\, 92201\, United States
CATEGORIES:Music Festival
ATTACH;FMTTYPE=image/jpeg:https://en.festtr.com/wp-content/uploads/genel-festival-04.03.2021-20-23-32.jpg
END:VEVENT
BEGIN:VEVENT
DTSTART;TZID=Europe/Istanbul:20260510T050000
DTEND;TZID=Europe/Istanbul:20260513T045900
DTSTAMP:20260421T175731
CREATED:20200808T152138Z
LAST-MODIFIED:20260412T032518Z
UID:10000306-1778389200-1778648340@en.festtr.com
SUMMARY:XJAZZ Festival
DESCRIPTION:XJAZZ Berlin Festival will be held at Gaswerksiedlung Berlin in May 10th-12th 2024.
URL:https://en.festtr.com/festival/xjazz-berlin-festival/
LOCATION:Germany\, Germany
CATEGORIES:Music Festival
ATTACH;FMTTYPE=image/jpeg:https://en.festtr.com/wp-content/uploads/2020/08/jazz-genel-08.08.2020-18-18-52.jpg
END:VEVENT
BEGIN:VEVENT
DTSTART;TZID=Europe/Istanbul:20260511T050000
DTEND;TZID=Europe/Istanbul:20260513T045900
DTSTAMP:20260421T175731
CREATED:20240205T235732Z
LAST-MODIFIED:20260412T032529Z
UID:10000399-1778475600-1778648340@en.festtr.com
SUMMARY:CORE Medellín
DESCRIPTION:After a spectacular world premiere of the brand new CORE stage in Tulum’s jungle\, Tomorrowland is bringing the mythical CORE stage to Colombia for a two-day festival on Saturday May 11 & Sunday May 12\, 2024.\n‍\nDance to the finest sounds across 3 stages in Parque Norte\, Medellín. Register now to enter the ticket sale on February 6\, 16:00 CET/10:00 EST.
URL:https://en.festtr.com/festival/core-medellin/
LOCATION:Colombia\, Bogota\, Bogota\, Colombia
CATEGORIES:Music Festival
ATTACH;FMTTYPE=image/jpeg:https://en.festtr.com/wp-content/uploads/core-medellin-6.02.2024-02-51-03.jpg
END:VEVENT
BEGIN:VEVENT
DTSTART;VALUE=DATE:20260516
DTEND;VALUE=DATE:20260527
DTSTAMP:20260421T175731
CREATED:20260320T200339Z
LAST-MODIFIED:20260320T204756Z
UID:10000421-1778907600-1779771599@en.festtr.com
SUMMARY:Awakenings UpClose Festival
DESCRIPTION:Upclose Festival 2026: An Immersive Techno Experience\nWhy You Can’t Miss It:\nPrepare for an intimate encounter with the pioneers of electronic music. Hosted by the legendary Awakenings crew at Houtrak (Spaarnwoude-Park)\, Upclose Festival returns on 16-17 May 2026. This isn’t just another rave; it’s a curated masterclass in techno\, bringing you face-to-face with the industry’s most influential artists. \nThe 2026 Lineup Highlights: \nGlobal Icons: Witness powerhouse performances from techno royalty like Nina Kraviz\, Ellen Allien\, and Len Faki. \nExclusive Collaborations: Experience rare back-to-back sets\, including the mind-bending fusion of Ben UFO x Four Tet and the raw energy of Alarico x Ben Klock. \nPure Artistry: Don’t miss a special\, one-of-a-kind vinyl-only techno set by the maestro Joris Voorn. \nFestest Pro Tip:\nHoutrak is known for its lush\, green surroundings which provide a stunning contrast to the industrial sounds of techno. Wear comfortable shoes and arrive early—the opening sets on Saturday are just as legendary as the headliners!
URL:https://en.festtr.com/festival/awakenings-upclose/
LOCATION:Netherlands\, Netherlands
CATEGORIES:★ Featured,Music Festival,Popular Festivals
ATTACH;FMTTYPE=image/jpeg:https://en.festtr.com/wp-content/uploads/awakening-upclose-20.03.2026-23-47-18.jpg
END:VEVENT
BEGIN:VEVENT
DTSTART;VALUE=DATE:20260523
DTEND;VALUE=DATE:20260526
DTSTAMP:20260421T175731
CREATED:20200822T012610Z
LAST-MODIFIED:20260302T051641Z
UID:10000322-1779512400-1779685199@en.festtr.com
SUMMARY:Marvellous Island Festival
DESCRIPTION:Marvellous Island Festival will be held on 23-24 May 2026 at Plage de Torcy\, Paris\, France.
URL:https://en.festtr.com/festival/marvellous-island-festival/
LOCATION:France\, Paris\, Paris\, France
CATEGORIES:★ Featured,Music Festival
ATTACH;FMTTYPE=image/jpeg:https://en.festtr.com/wp-content/uploads/marvelous-island-24.12.2021-00-47-31.jpg
END:VEVENT
BEGIN:VEVENT
DTSTART;TZID=Europe/Istanbul:20260523T050000
DTEND;TZID=Europe/Istanbul:20260610T045900
DTSTAMP:20260421T175731
CREATED:20201008T192955Z
LAST-MODIFIED:20260412T032540Z
UID:10000211-1779512400-1781067540@en.festtr.com
SUMMARY:Kerrville Folk Festival
DESCRIPTION:The Kerrville Folk Festival is a music festival held for 18 consecutive days in the late spring/early summer at Quiet Valley Ranch near Kerrville\, Texas. The event has run annually since 1972.
URL:https://en.festtr.com/festival/kerrville-folk-festival/
LOCATION:USA\, CA\, 92201\, United States
CATEGORIES:Music Festival
ATTACH;FMTTYPE=image/jpeg:https://en.festtr.com/wp-content/uploads/kerrville-folk-festival-08.10.2020-22-27-07.jpg
END:VEVENT
BEGIN:VEVENT
DTSTART;TZID=Europe/Istanbul:20260527T050000
DTEND;TZID=Europe/Istanbul:20260531T045900
DTSTAMP:20260421T175731
CREATED:20201024T222839Z
LAST-MODIFIED:20260412T024234Z
UID:10000224-1779858000-1780203540@en.festtr.com
SUMMARY:Bearded Theory Festival
DESCRIPTION:Bearded Theory Festival will be held in 27-30 May 2021.
URL:https://en.festtr.com/festival/bearded-theory-festival/
LOCATION:UK\, London\, London\, United Kingdom
CATEGORIES:★ Featured,Music Festival
ATTACH;FMTTYPE=image/jpeg:https://en.festtr.com/wp-content/uploads/bearded-theory-festival-25.10.2020-01-31-09.jpg
END:VEVENT
BEGIN:VEVENT
DTSTART;TZID=Europe/Istanbul:20260527T050000
DTEND;TZID=Europe/Istanbul:20260601T045900
DTSTAMP:20260421T175731
CREATED:20201024T230428Z
LAST-MODIFIED:20260412T024310Z
UID:10000226-1779858000-1780289940@en.festtr.com
SUMMARY:Abbey Road on the River
DESCRIPTION:Abbey Road on the River Festival will be held in 27-31 May 2021.
URL:https://en.festtr.com/festival/abbey-road-on-the-river/
LOCATION:USA\, CA\, 92201\, United States
CATEGORIES:Music Festival
ATTACH;FMTTYPE=image/jpeg:https://en.festtr.com/wp-content/uploads/abbey-road-on-the-river-25.10.2020-01-54-52.jpg
END:VEVENT
BEGIN:VEVENT
DTSTART;TZID=Europe/Istanbul:20260527T050000
DTEND;TZID=Europe/Istanbul:20260604T045900
DTSTAMP:20260421T175731
CREATED:20210310T132340Z
LAST-MODIFIED:20260412T024322Z
UID:10000356-1779858000-1780549140@en.festtr.com
SUMMARY:Philosophical Film Festival
DESCRIPTION:Philosophical Film Festival / Филозофски Филмски Фестивал is a unique film festival that lives on the crossroads between philosophy and film and is held annually in Republic of N. Macedonia.
URL:https://en.festtr.com/festival/philosophical-film-festival/
LOCATION:North Macedonia\, Skopje\, Skopje\, North Macedonia
CATEGORIES:Film Festival
ATTACH;FMTTYPE=image/jpeg:https://en.festtr.com/wp-content/uploads/philosophical-film-festival-10.03.2021-16-23-23.jpg
END:VEVENT
BEGIN:VEVENT
DTSTART;TZID=Europe/Istanbul:20260529T050000
DTEND;TZID=Europe/Istanbul:20260531T045900
DTSTAMP:20260421T175731
CREATED:20201024T224427Z
LAST-MODIFIED:20260412T024337Z
UID:10000225-1780030800-1780203540@en.festtr.com
SUMMARY:Love Saves the Day
DESCRIPTION:Love Saves the Day will be in 29th – 30th May 2021.
URL:https://en.festtr.com/festival/love-saves-the-day/
LOCATION:UK\, London\, London\, United Kingdom
CATEGORIES:Music Festival
ATTACH;FMTTYPE=image/jpeg:https://en.festtr.com/wp-content/uploads/love-saves-the-day-festival-25.10.2020-01-44-02.jpg
END:VEVENT
BEGIN:VEVENT
DTSTART;TZID=Europe/Istanbul:20260603T120000
DTEND;TZID=Europe/Istanbul:20260607T233000
DTSTAMP:20260421T175731
CREATED:20200609T010720Z
LAST-MODIFIED:20260412T024400Z
UID:10000289-1780488000-1780875000@en.festtr.com
SUMMARY:UNUM Festival
DESCRIPTION:UNUM Festival will be held at 3-7 June 2021 in Albania. \nUNUM Festival is a house and techno festival\, returning for a second time upon the shores of Shëngjin\, Albania. \nThe tranquil vistas of the Albanian Riviera serve as UNUM Festival’s setting; characterised by the concept of unity (“unum” meaning “one” as a whole in Latin) the coastal celebration merges music\, beautiful environs\, and positive vibes.
URL:https://en.festtr.com/festival/unum-festival/
LOCATION:Albania\, Albania\, Albania
CATEGORIES:Music Festival
ATTACH;FMTTYPE=image/jpeg:https://en.festtr.com/wp-content/uploads/2020/06/unum-festival-09.06.2020-07-04-45.jpg
END:VEVENT
BEGIN:VEVENT
DTSTART;TZID=Europe/Istanbul:20260604T050000
DTEND;TZID=Europe/Istanbul:20260614T045900
DTSTAMP:20260421T175731
CREATED:20210317T200822Z
LAST-MODIFIED:20260412T024412Z
UID:10000359-1780549200-1781413140@en.festtr.com
SUMMARY:Brooklyn Film Festival
DESCRIPTION:Brooklyn Film Festival will take place June 4-13.
URL:https://en.festtr.com/festival/brooklyn-film-festival/
LOCATION:USA\, CA\, 92201\, United States
CATEGORIES:Film Festival
ATTACH;FMTTYPE=image/jpeg:https://en.festtr.com/wp-content/uploads/brooklyn-film-festival-17.03.2021-23-05-45.jpg
END:VEVENT
BEGIN:VEVENT
DTSTART;TZID=Europe/Istanbul:20260605T050000
DTEND;TZID=Europe/Istanbul:20260609T045900
DTSTAMP:20260421T175731
CREATED:20240126T012620Z
LAST-MODIFIED:20260412T032559Z
UID:10000392-1780635600-1780981140@en.festtr.com
SUMMARY:Mystic Festival
DESCRIPTION:Mystic Festival will be held in June.
URL:https://en.festtr.com/festival/mystic-festival/
LOCATION:Poland\, Warsaw\, Warsaw\, Poland
CATEGORIES:★ Featured,Music Festival
ATTACH;FMTTYPE=image/jpeg:https://en.festtr.com/wp-content/uploads/mystic-festival-26.01.2024-04-18-48.jpg
END:VEVENT
BEGIN:VEVENT
DTSTART;TZID=Europe/Istanbul:20260606T050000
DTEND;TZID=Europe/Istanbul:20260612T045900
DTSTAMP:20260421T175731
CREATED:20210729T235613Z
LAST-MODIFIED:20260412T024433Z
UID:10000254-1780722000-1781240340@en.festtr.com
SUMMARY:Shanghai International Film Festival
DESCRIPTION:Shanghai International Film Festival will be held in June.
URL:https://en.festtr.com/festival/shanghai-international-film-festival/
LOCATION:China\, Beijing\, Beijing\, China
CATEGORIES:Film Festival
ATTACH;FMTTYPE=image/jpeg:https://en.festtr.com/wp-content/uploads/2020/06/film-cinema-15.06.2020-00-58-37.jpg
END:VEVENT
BEGIN:VEVENT
DTSTART;TZID=Europe/Istanbul:20260606T120000
DTEND;TZID=Europe/Istanbul:20260607T230000
DTSTAMP:20260421T175731
CREATED:20200608T192838Z
LAST-MODIFIED:20260412T024445Z
UID:10000284-1780747200-1780873200@en.festtr.com
SUMMARY:Omaha Summer Arts Festival
DESCRIPTION:For the first time in 46 years\, the Omaha Summer Arts Festival is going virtual. \nBecause of obvious coronavirus restrictions\, the in-person arts festival was canceled. But organizers and artists still wanted to honor the tradition of the beloved festival. \nSo in a quick few weeks\, preparations were made to put together the festival virtually. \nThat includes food vendors posting recipes and hosting demo videos\, musicians performing\, and of course artists.
URL:https://en.festtr.com/festival/osaf/
LOCATION:USA\, CA\, 92201\, United States
CATEGORIES:Art Festival
ATTACH;FMTTYPE=image/jpeg:https://en.festtr.com/wp-content/uploads/2020/06/osaf-08.06.2020-08-07-11.jpg
END:VEVENT
BEGIN:VEVENT
DTSTART;TZID=Europe/Istanbul:20260607T050000
DTEND;TZID=Europe/Istanbul:20260610T045900
DTSTAMP:20260421T175731
CREATED:20240126T004651Z
LAST-MODIFIED:20260412T032609Z
UID:10000389-1780808400-1781067540@en.festtr.com
SUMMARY:Rock im Park
DESCRIPTION:The Rock am Ring (German for “Rock at the Ring”) and Rock im Park (“Rock in the Park”) festivals are two simultaneous rock music festivals held annually. While Rock am Ring takes place at the Nürburgring race track\, Rock im Park takes place at the Zeppelinfeld in Nuremberg.
URL:https://en.festtr.com/festival/rock-im-park/
LOCATION:Germany\, Germany
CATEGORIES:★ Featured,Music Festival
ATTACH;FMTTYPE=image/jpeg:https://en.festtr.com/wp-content/uploads/rock-im-park-26.01.2024-03-41-22.jpg
END:VEVENT
BEGIN:VEVENT
DTSTART;TZID=Europe/Istanbul:20260607T050000
DTEND;TZID=Europe/Istanbul:20260610T045900
DTSTAMP:20260421T175731
CREATED:20240126T010034Z
LAST-MODIFIED:20260412T032621Z
UID:10000391-1780808400-1781067540@en.festtr.com
SUMMARY:Rock am Ring
DESCRIPTION:The Rock am Ring (German for “Rock at the Ring”) and Rock im Park (“Rock in the Park”) festivals are two simultaneous rock music festivals held annually. While Rock am Ring takes place at the Nürburgring race track\, Rock im Park takes place at the Zeppelinfeld in Nuremberg.
URL:https://en.festtr.com/festival/rock-am-ring/
LOCATION:Germany\, Germany
CATEGORIES:★ Featured,Music Festival
ATTACH;FMTTYPE=image/jpeg:https://en.festtr.com/wp-content/uploads/rock-im-ring-26.01.2024-03-55-46.jpg
END:VEVENT
BEGIN:VEVENT
DTSTART;TZID=Europe/Istanbul:20260608T050000
DTEND;TZID=Europe/Istanbul:20260616T045900
DTSTAMP:20260421T175731
CREATED:20200609T003239Z
LAST-MODIFIED:20260412T031045Z
UID:10000287-1780894800-1781585940@en.festtr.com
SUMMARY:Kala Festival
DESCRIPTION:Kala Festival is taking place from 8th to 15th June 2022
URL:https://en.festtr.com/festival/kala-festival/
LOCATION:Albania\, Albania\, Albania
CATEGORIES:Music Festival
ATTACH;FMTTYPE=image/jpeg:https://en.festtr.com/wp-content/uploads/2020/06/kala-fest-09.06.2020-06-30-21.jpg
END:VEVENT
BEGIN:VEVENT
DTSTART;TZID=Europe/Istanbul:20260610T050000
DTEND;TZID=Europe/Istanbul:20260613T045900
DTSTAMP:20260421T175731
CREATED:20210714T195909Z
LAST-MODIFIED:20260412T031056Z
UID:10000366-1781067600-1781326740@en.festtr.com
SUMMARY:Country Thunder Iowa
DESCRIPTION:Country Thunder Iowa Music Festival will take place in June.
URL:https://en.festtr.com/festival/country-thunder-iowa/
LOCATION:USA\, CA\, 92201\, United States
CATEGORIES:Music Festival
ATTACH;FMTTYPE=image/jpeg:https://en.festtr.com/wp-content/uploads/country-thunder-14.07.2021-22-42-25.jpg
END:VEVENT
BEGIN:VEVENT
DTSTART;TZID=Europe/Istanbul:20260611T050000
DTEND;TZID=Europe/Istanbul:20260614T045900
DTSTAMP:20260421T175731
CREATED:20200610T192832Z
LAST-MODIFIED:20260412T021942Z
UID:10000291-1781154000-1781413140@en.festtr.com
SUMMARY:Ever After Music Festival
DESCRIPTION:Ever After Music Festival will take place June 2021. \n\nEver After Music Festival is an electronic music festival in Kitchener\, Ontario. Set an hour outside of Toronto\, the festival is a classic city getaway weekender. \nCurating a lineup anchored in bass music\, Ever After Music Festival features chest rattling artists steeped in dubstep\, techno\, harderstyles. Taking place on the grounds of Bingemans Resort\, beyond the music the festival has a host of summertime activities\, such as waterparks\, sports\, and barbecues. \nAs one of the leading electronic bass festivals in North America\, and possibly the world\, Ever After has grown to the forefront of the bass scene for festival goers. Showcasing a heavy bass lineup\, attendees can expect the atmosphere to be energetic and loud. Although the lineup does feature electronics of all varieties\, it’s best suited for bass loving fans.
URL:https://en.festtr.com/festival/ever-after/
LOCATION:Canada\, Bingemans Resort\, 425 Bingemans Centre Drive\, Kitchener\, N2B 3X7\, Canada\, Canada
CATEGORIES:Music Festival
ATTACH;FMTTYPE=image/jpeg:https://en.festtr.com/wp-content/uploads/2020/06/ever-after-festival-11.06.2020-01-25-24.jpg
END:VEVENT
BEGIN:VEVENT
DTSTART;TZID=Europe/Istanbul:20260613T050000
DTEND;TZID=Europe/Istanbul:20260616T045900
DTSTAMP:20260421T175731
CREATED:20240206T010852Z
LAST-MODIFIED:20260412T032635Z
UID:10000400-1781326800-1781585940@en.festtr.com
SUMMARY:Sónar Festival
DESCRIPTION:Sónar Festival Barcelona will be held at 13-15 June 2024 in Barcelona.
URL:https://en.festtr.com/festival/sonar-festival/
LOCATION:Spain\, Madrid\, Madrid\, Spain
CATEGORIES:★ Featured,Music Festival
ATTACH;FMTTYPE=image/jpeg:https://en.festtr.com/wp-content/uploads/sonar-6.02.2024-05-25-12.jpg
END:VEVENT
BEGIN:VEVENT
DTSTART;TZID=Europe/Istanbul:20260614T120000
DTEND;TZID=Europe/Istanbul:20260621T233000
DTSTAMP:20260421T175731
CREATED:20200614T033103Z
LAST-MODIFIED:20260412T024500Z
UID:10000293-1781438400-1782084600@en.festtr.com
SUMMARY:International Migration Film Festival
DESCRIPTION:International Migration Film Festival will start in June.
URL:https://en.festtr.com/festival/international-migration-film-festival/
LOCATION:Turkey\, Ankara\, Ankara\, Turkey
CATEGORIES:Art Festival,Film Festival,Online Festival
ATTACH;FMTTYPE=image/jpeg:https://en.festtr.com/wp-content/uploads/2020/06/migration-film-festival-14.06.2020-06-25-43.jpg
END:VEVENT
BEGIN:VEVENT
DTSTART;TZID=Europe/Istanbul:20260616T120000
DTEND;TZID=Europe/Istanbul:20260625T230000
DTSTAMP:20260421T175731
CREATED:20200614T222240Z
LAST-MODIFIED:20260412T024515Z
UID:10000296-1781611200-1782428400@en.festtr.com
SUMMARY:Stony Brook Film Festival
DESCRIPTION:Stony Brook Film Festival will be held in  June.
URL:https://en.festtr.com/festival/stony-brook-film-festival/
LOCATION:USA\, CA\, 92201\, United States
CATEGORIES:Film Festival
ATTACH;FMTTYPE=image/jpeg:https://en.festtr.com/wp-content/uploads/2020/06/stony-brook-15.06.2020-01-19-11.jpg
END:VEVENT
END:VCALENDAR