BEGIN:VCALENDAR
VERSION:2.0
PRODID:-//Festiwo - ECPv6.15.20//NONSGML v1.0//EN
CALSCALE:GREGORIAN
METHOD:PUBLISH
X-ORIGINAL-URL:https://en.festtr.com
X-WR-CALDESC:Events for Festiwo
REFRESH-INTERVAL;VALUE=DURATION:PT1H
X-Robots-Tag:noindex
X-PUBLISHED-TTL:PT1H
BEGIN:VTIMEZONE
TZID:Europe/Istanbul
BEGIN:STANDARD
TZOFFSETFROM:+0300
TZOFFSETTO:+0300
TZNAME:+03
DTSTART:20250101T000000
END:STANDARD
END:VTIMEZONE
BEGIN:VEVENT
DTSTART;VALUE=DATE:20260410
DTEND;VALUE=DATE:20260421
DTSTAMP:20260418T224035
CREATED:20200604T001418Z
LAST-MODIFIED:20260302T034709Z
UID:10000281-1775808000-1776671999@en.festtr.com
SUMMARY:Coachella Festival
DESCRIPTION:Coachella Valley Music and Arts Festival 2026 Music Festival held in April. 
URL:https://en.festtr.com/festival/coachella/
LOCATION:USA\, CA\, 92201\, United States
CATEGORIES:★ Featured,Music Festival
ATTACH;FMTTYPE=image/jpeg:https://en.festtr.com/wp-content/uploads/2020/06/coachella-04.06.2020-06-25-08.jpg
END:VEVENT
BEGIN:VEVENT
DTSTART;VALUE=DATE:20260516
DTEND;VALUE=DATE:20260527
DTSTAMP:20260418T224035
CREATED:20260320T200339Z
LAST-MODIFIED:20260320T204756Z
UID:10000421-1778907600-1779771599@en.festtr.com
SUMMARY:Awakenings UpClose Festival
DESCRIPTION:Upclose Festival 2026: An Immersive Techno Experience\nWhy You Can’t Miss It:\nPrepare for an intimate encounter with the pioneers of electronic music. Hosted by the legendary Awakenings crew at Houtrak (Spaarnwoude-Park)\, Upclose Festival returns on 16-17 May 2026. This isn’t just another rave; it’s a curated masterclass in techno\, bringing you face-to-face with the industry’s most influential artists. \nThe 2026 Lineup Highlights: \nGlobal Icons: Witness powerhouse performances from techno royalty like Nina Kraviz\, Ellen Allien\, and Len Faki. \nExclusive Collaborations: Experience rare back-to-back sets\, including the mind-bending fusion of Ben UFO x Four Tet and the raw energy of Alarico x Ben Klock. \nPure Artistry: Don’t miss a special\, one-of-a-kind vinyl-only techno set by the maestro Joris Voorn. \nFestest Pro Tip:\nHoutrak is known for its lush\, green surroundings which provide a stunning contrast to the industrial sounds of techno. Wear comfortable shoes and arrive early—the opening sets on Saturday are just as legendary as the headliners!
URL:https://en.festtr.com/festival/awakenings-upclose/
LOCATION:Netherlands\, Netherlands
CATEGORIES:★ Featured,Music Festival,Popular Festivals
ATTACH;FMTTYPE=image/jpeg:https://en.festtr.com/wp-content/uploads/awakening-upclose-20.03.2026-23-47-18.jpg
END:VEVENT
BEGIN:VEVENT
DTSTART;VALUE=DATE:20260523
DTEND;VALUE=DATE:20260526
DTSTAMP:20260418T224035
CREATED:20200822T012610Z
LAST-MODIFIED:20260302T051641Z
UID:10000322-1779512400-1779685199@en.festtr.com
SUMMARY:Marvellous Island Festival
DESCRIPTION:Marvellous Island Festival will be held on 23-24 May 2026 at Plage de Torcy\, Paris\, France.
URL:https://en.festtr.com/festival/marvellous-island-festival/
LOCATION:France\, Paris\, Paris\, France
CATEGORIES:★ Featured,Music Festival
ATTACH;FMTTYPE=image/jpeg:https://en.festtr.com/wp-content/uploads/marvelous-island-24.12.2021-00-47-31.jpg
END:VEVENT
BEGIN:VEVENT
DTSTART;TZID=Europe/Istanbul:20260527T050000
DTEND;TZID=Europe/Istanbul:20260531T045900
DTSTAMP:20260418T224035
CREATED:20201024T222839Z
LAST-MODIFIED:20260412T024234Z
UID:10000224-1779858000-1780203540@en.festtr.com
SUMMARY:Bearded Theory Festival
DESCRIPTION:Bearded Theory Festival will be held in 27-30 May 2021.
URL:https://en.festtr.com/festival/bearded-theory-festival/
LOCATION:UK\, London\, London\, United Kingdom
CATEGORIES:★ Featured,Music Festival
ATTACH;FMTTYPE=image/jpeg:https://en.festtr.com/wp-content/uploads/bearded-theory-festival-25.10.2020-01-31-09.jpg
END:VEVENT
BEGIN:VEVENT
DTSTART;TZID=Europe/Istanbul:20260605T050000
DTEND;TZID=Europe/Istanbul:20260609T045900
DTSTAMP:20260418T224035
CREATED:20240126T012620Z
LAST-MODIFIED:20260412T032559Z
UID:10000392-1780635600-1780981140@en.festtr.com
SUMMARY:Mystic Festival
DESCRIPTION:Mystic Festival will be held in June.
URL:https://en.festtr.com/festival/mystic-festival/
LOCATION:Poland\, Warsaw\, Warsaw\, Poland
CATEGORIES:★ Featured,Music Festival
ATTACH;FMTTYPE=image/jpeg:https://en.festtr.com/wp-content/uploads/mystic-festival-26.01.2024-04-18-48.jpg
END:VEVENT
BEGIN:VEVENT
DTSTART;TZID=Europe/Istanbul:20260607T050000
DTEND;TZID=Europe/Istanbul:20260610T045900
DTSTAMP:20260418T224035
CREATED:20240126T004651Z
LAST-MODIFIED:20260412T032609Z
UID:10000389-1780808400-1781067540@en.festtr.com
SUMMARY:Rock im Park
DESCRIPTION:The Rock am Ring (German for “Rock at the Ring”) and Rock im Park (“Rock in the Park”) festivals are two simultaneous rock music festivals held annually. While Rock am Ring takes place at the Nürburgring race track\, Rock im Park takes place at the Zeppelinfeld in Nuremberg.
URL:https://en.festtr.com/festival/rock-im-park/
LOCATION:Germany\, Germany
CATEGORIES:★ Featured,Music Festival
ATTACH;FMTTYPE=image/jpeg:https://en.festtr.com/wp-content/uploads/rock-im-park-26.01.2024-03-41-22.jpg
END:VEVENT
BEGIN:VEVENT
DTSTART;TZID=Europe/Istanbul:20260607T050000
DTEND;TZID=Europe/Istanbul:20260610T045900
DTSTAMP:20260418T224035
CREATED:20240126T010034Z
LAST-MODIFIED:20260412T032621Z
UID:10000391-1780808400-1781067540@en.festtr.com
SUMMARY:Rock am Ring
DESCRIPTION:The Rock am Ring (German for “Rock at the Ring”) and Rock im Park (“Rock in the Park”) festivals are two simultaneous rock music festivals held annually. While Rock am Ring takes place at the Nürburgring race track\, Rock im Park takes place at the Zeppelinfeld in Nuremberg.
URL:https://en.festtr.com/festival/rock-am-ring/
LOCATION:Germany\, Germany
CATEGORIES:★ Featured,Music Festival
ATTACH;FMTTYPE=image/jpeg:https://en.festtr.com/wp-content/uploads/rock-im-ring-26.01.2024-03-55-46.jpg
END:VEVENT
BEGIN:VEVENT
DTSTART;TZID=Europe/Istanbul:20260613T050000
DTEND;TZID=Europe/Istanbul:20260616T045900
DTSTAMP:20260418T224035
CREATED:20240206T010852Z
LAST-MODIFIED:20260412T032635Z
UID:10000400-1781326800-1781585940@en.festtr.com
SUMMARY:Sónar Festival
DESCRIPTION:Sónar Festival Barcelona will be held at 13-15 June 2024 in Barcelona.
URL:https://en.festtr.com/festival/sonar-festival/
LOCATION:Spain\, Madrid\, Madrid\, Spain
CATEGORIES:★ Featured,Music Festival
ATTACH;FMTTYPE=image/jpeg:https://en.festtr.com/wp-content/uploads/sonar-6.02.2024-05-25-12.jpg
END:VEVENT
BEGIN:VEVENT
DTSTART;TZID=Europe/Istanbul:20260621T050000
DTEND;TZID=Europe/Istanbul:20260629T045900
DTSTAMP:20260418T224035
CREATED:20240205T211846Z
LAST-MODIFIED:20260412T032739Z
UID:10000393-1782018000-1782709140@en.festtr.com
SUMMARY:Midsummer Festival
DESCRIPTION:Apart from Christmas\, midsummer is the most important holiday in the Swedish calendar. For some\, midsummer is the most important. In 2024\, Midsummer Eve is celebrated on 21 June. Below you can find out more about Swedish Midsummer traditions and food.
URL:https://en.festtr.com/festival/midsummer-festival/
LOCATION:Sweden\, Stockholm\, Sweden
CATEGORIES:★ Featured,Cultural Festival,Historical,Traditional Festival
ATTACH;FMTTYPE=image/jpeg:https://en.festtr.com/wp-content/uploads/midsommar-5.02.2024-00-56-53.jpg
END:VEVENT
BEGIN:VEVENT
DTSTART;TZID=Europe/Istanbul:20260623T050000
DTEND;TZID=Europe/Istanbul:20260628T045900
DTSTAMP:20260418T224035
CREATED:20201022T194725Z
LAST-MODIFIED:20260412T024649Z
UID:10000335-1782190800-1782622740@en.festtr.com
SUMMARY:Glastonbury Festival
DESCRIPTION:Glastonbury Festival will be held at 23 June 2021 – 27 June 2021.
URL:https://en.festtr.com/festival/glastonbury-festival/
LOCATION:UK\, London\, London\, United Kingdom
CATEGORIES:★ Featured,Art Festival
ATTACH;FMTTYPE=image/jpeg:https://en.festtr.com/wp-content/uploads/glastonbury-festival-22.10.2020-22-44-16.jpg
END:VEVENT
BEGIN:VEVENT
DTSTART;TZID=Europe/Istanbul:20260626T050000
DTEND;TZID=Europe/Istanbul:20260704T045900
DTSTAMP:20260418T224035
CREATED:20210310T131434Z
LAST-MODIFIED:20260412T024717Z
UID:10000355-1782450000-1783141140@en.festtr.com
SUMMARY:Ischia Film Festival
DESCRIPTION:The Ischia Film Festival will be held in June 26 – July 3\, 2021 in Italy.
URL:https://en.festtr.com/festival/ischia-film-festival/
LOCATION:Italy\, Roma\, Roma\, Italy
CATEGORIES:★ Featured,Film Festival
ATTACH;FMTTYPE=image/jpeg:https://en.festtr.com/wp-content/uploads/ischia_film_festival-10.03.2021-16-10-36.jpg
END:VEVENT
BEGIN:VEVENT
DTSTART;TZID=Europe/Istanbul:20260628T050000
DTEND;TZID=Europe/Istanbul:20260701T045900
DTSTAMP:20260418T224035
CREATED:20240125T045510Z
LAST-MODIFIED:20260412T032812Z
UID:10000279-1782622800-1782881940@en.festtr.com
SUMMARY:Tuska Open Air Metal Festival
DESCRIPTION:Tuska Open Air Metal Festival\, commonly shortened to Tuska (Finnish: pain\, agony)\, is a Finnish heavy metal festival taking place annually in Helsinki.
URL:https://en.festtr.com/festival/tuska/
LOCATION:Finland\, Finland
CATEGORIES:★ Featured,Music Festival
ATTACH;FMTTYPE=image/jpeg:https://en.festtr.com/wp-content/uploads/tusca-25.01.2024-07-52-08.jpg
END:VEVENT
BEGIN:VEVENT
DTSTART;TZID=Europe/Istanbul:20260706T050000
DTEND;TZID=Europe/Istanbul:20260710T045900
DTSTAMP:20260418T224035
CREATED:20201022T210648Z
LAST-MODIFIED:20260412T031106Z
UID:10000220-1783314000-1783659540@en.festtr.com
SUMMARY:NOS Alive
DESCRIPTION:NOS Alive Music Festival will be held in 6-9 July 2022 at Lisbon.
URL:https://en.festtr.com/festival/nos-alive/
LOCATION:Portugal\, Lisbon\, Portugal
CATEGORIES:★ Featured,Music Festival
ATTACH;FMTTYPE=image/jpeg:https://en.festtr.com/wp-content/uploads/nos-alive-23.10.2020-00-05-56.jpg
END:VEVENT
BEGIN:VEVENT
DTSTART;TZID=Europe/Istanbul:20260706T050000
DTEND;TZID=Europe/Istanbul:20260718T045900
DTSTAMP:20260418T224035
CREATED:20200603T023208Z
LAST-MODIFIED:20260412T024856Z
UID:10000280-1783314000-1784350740@en.festtr.com
SUMMARY:Cannes Film Festival
DESCRIPTION:The Cannes Festival\, until 2003 called the International Film Festival (Festival international du film) and known in English as the Cannes Film Festival\, is an annual film festival held in Cannes\, France\, which previews new films of all genres\, including documentaries from all around the world. Founded in 1946\, the invitation-only festival is held annually (usually in May) at the Palais des Festivals et des Congrès. \nOn 1 July 2014\, co-founder and former head of French pay-TV operator Canal+\, Pierre Lescure\, took over as President of the Festival\, while Thierry Frémaux became the General Delegate. The board of directors also appointed Gilles Jacob as Honorary President of the Festival. \nIt is one of the “Big Five” film festivals\, alongside the Venice Film Festival in Italy\, the Berlin International Film Festival in Germany\, the Toronto International Film Festival in Canada and the Sundance Film Festival in the United States. The Big Five are internationally acclaimed for giving creators the artistic freedom to express themselves through film. In 1951\, FIAPF formally accredited the festival.
URL:https://en.festtr.com/festival/cannes-film-festival/
LOCATION:France\, Paris\, Paris\, France
CATEGORIES:★ Featured,Film Festival
ATTACH;FMTTYPE=image/jpeg:https://en.festtr.com/wp-content/uploads/2020/06/cannes-film-festival-03.06.2020-08-34-43.jpg
END:VEVENT
BEGIN:VEVENT
DTSTART;TZID=Europe/Istanbul:20260707T050000
DTEND;TZID=Europe/Istanbul:20260711T045900
DTSTAMP:20260418T224035
CREATED:20201029T215650Z
LAST-MODIFIED:20260412T031117Z
UID:10000345-1783400400-1783745940@en.festtr.com
SUMMARY:EXIT Festival
DESCRIPTION:EXIT Festival will take place 7-10 July 2022 in Serbia.
URL:https://en.festtr.com/festival/exit-festival/
LOCATION:Serbia\, Belgrade\, Belgrade\, Belgrade\, Serbia
CATEGORIES:★ Featured,Music Festival
ATTACH;FMTTYPE=image/jpeg:https://en.festtr.com/wp-content/uploads/exit-festival-14.07.2021-19-13-06.jpg
END:VEVENT
BEGIN:VEVENT
DTSTART;VALUE=DATE:20260710
DTEND;VALUE=DATE:20260714
DTSTAMP:20260418T224035
CREATED:20211223T130648Z
LAST-MODIFIED:20260320T192021Z
UID:10000381-1783659600-1783918799@en.festtr.com
SUMMARY:Awakenings Festival
DESCRIPTION:Awakenings Summer Festival is taking place from the 10th to 12th July 2026.
URL:https://en.festtr.com/festival/awakenings-summer-festival/
LOCATION:Netherlands\, Netherlands
CATEGORIES:★ Featured,Music Festival
ATTACH;FMTTYPE=image/jpeg:https://en.festtr.com/wp-content/uploads/sil-23.12.2021-16-05-35.jpg
END:VEVENT
BEGIN:VEVENT
DTSTART;VALUE=DATE:20260717
DTEND;VALUE=DATE:20260728
DTSTAMP:20260418T224035
CREATED:20200605T022247Z
LAST-MODIFIED:20260302T070609Z
UID:10000282-1784275200-1785139199@en.festtr.com
SUMMARY:Tomorrowland Festival
DESCRIPTION:People of Tomorrow\, step into the world of Consciencia\, a new frontier in your Tomorrowland universe. Awakened for the first time\, molded by the force of emotion. Enter a magnificent world where the impossible is merely a dream on the verge of becoming reality. \nCONSCIENCIA\nTomorrowland Belgium: July 17–19 & 24–26\, 2026\nTomorrowland Thailand: December 11–13\, 2026\nTomorrowland Brasil: April 30 – May 2\, 2027 \nDiscover more at tomorrowland.com.
URL:https://en.festtr.com/festival/tomorrowland/
LOCATION:Belgium\, PRC de Schorre\, Schommelei\, Boom\, 2850\, Belgium
CATEGORIES:★ Featured,Music Festival
ATTACH;FMTTYPE=image/jpeg:https://en.festtr.com/wp-content/uploads/2020/06/tomorrowland-05.06.2020-08-19-29.jpg
END:VEVENT
BEGIN:VEVENT
DTSTART;TZID=Europe/Istanbul:20260726T050000
DTEND;TZID=Europe/Istanbul:20260728T045900
DTSTAMP:20260418T224035
CREATED:20240125T043012Z
LAST-MODIFIED:20260412T032229Z
UID:10000277-1785042000-1785214740@en.festtr.com
SUMMARY:Qstock
DESCRIPTION:Qstock Festival is an annual two-day music festival held at the end of July in Oulu\, Finland.
URL:https://en.festtr.com/festival/qstock/
LOCATION:Finland\, Finland
CATEGORIES:★ Featured,Music Festival
ATTACH;FMTTYPE=image/jpeg:https://en.festtr.com/wp-content/uploads/qstock-25.01.2024-07-29-31.jpg
END:VEVENT
BEGIN:VEVENT
DTSTART;VALUE=DATE:20260729
DTEND;VALUE=DATE:20260803
DTSTAMP:20260418T224035
CREATED:20240214T015539Z
LAST-MODIFIED:20260316T011111Z
UID:10000409-1785301200-1785646799@en.festtr.com
SUMMARY:Wacken Open Air
DESCRIPTION:Wacken Open Air will take place from July 29st to August 1rd\, 2026.
URL:https://en.festtr.com/festival/wacken-open-air/
LOCATION:Germany\, Germany
CATEGORIES:★ Featured,Music Festival
ATTACH;FMTTYPE=image/jpeg:https://en.festtr.com/wp-content/uploads/wacken-14.02.2024-04-54-31.jpg
END:VEVENT
BEGIN:VEVENT
DTSTART;TZID=Europe/Istanbul:20260805T050000
DTEND;TZID=Europe/Istanbul:20260823T045900
DTSTAMP:20260418T224035
CREATED:20201016T113703Z
LAST-MODIFIED:20260412T025336Z
UID:10000334-1785906000-1787461140@en.festtr.com
SUMMARY:Melbourne International Film Festival
DESCRIPTION:Melbourne International Film Festival will be held in August 2021. \nThe 69th edition of the festival will include 199 features and will take place as a hybrid event from August 5-15\, marking a return to in-person screenings after last year’s MIFF was shifted online due to the pandemic. Some 62 titles will be available throughout Australia via MIFF Play\, the festival’s online screening platform\, from August 14-22.
URL:https://en.festtr.com/festival/miff/
LOCATION:Australia\, Melbourne\, Melbourne\, Australia
CATEGORIES:★ Featured,Film Festival
ATTACH;FMTTYPE=image/jpeg:https://en.festtr.com/wp-content/uploads/miff-melbourne-film-festival-16.10.2020-14-28-44.jpg
END:VEVENT
BEGIN:VEVENT
DTSTART;TZID=Europe/Istanbul:20260806T120000
DTEND;TZID=Europe/Istanbul:20260806T230000
DTSTAMP:20260418T224035
CREATED:20200820T153137Z
LAST-MODIFIED:20260412T025401Z
UID:10000307-1786017600-1786057200@en.festtr.com
SUMMARY:Outside Lands Festival
DESCRIPTION:The Outside Lands Music and Arts Festival will be held on 6-8 August at Golden Gate Park. \nA bike valet\, wine tasting tent\, and local organic food vendors are just a couple of signs that you’re in San Francisco at Outside Lands. The quirky and wonderful Golden Gate Park hosts a wide range of acts and has quickly grown into a highlight of the San Fran summer. Bring a hoodie with you. Just because it’s August doesn’t mean that the fog won’t join the party. \nThe Outside Lands Music and Arts Festival is a music festival held annually in San Francisco\, California\, at Golden Gate Park. The festival is produced by Another Planet Entertainment\, Superfly Presents\, and Starr Hill Presents. It is the largest independently owned music festival in the United States. In 2019\, it was the world’s highest grossing festival with revenues of almost $30 million.
URL:https://en.festtr.com/festival/outside-lands/
LOCATION:USA\, CA\, 92201\, United States
CATEGORIES:★ Featured,Music Festival
ATTACH;FMTTYPE=image/jpeg:https://en.festtr.com/wp-content/uploads/2020/08/outsidelands-20.08.2020-18-24-20.jpg
END:VEVENT
BEGIN:VEVENT
DTSTART;TZID=Europe/Istanbul:20260807T050000
DTEND;TZID=Europe/Istanbul:20260813T045900
DTSTAMP:20260418T224035
CREATED:20200608T014307Z
LAST-MODIFIED:20260412T031640Z
UID:10000283-1786078800-1786597140@en.festtr.com
SUMMARY:Sziget Festival
DESCRIPTION:Sziget Festival is one of Europe’s biggest and most famous music festivals\, held each August on the lovely Óbuda Island in the Hungarian capital\, Budapest.
URL:https://en.festtr.com/festival/sziget-festival/
LOCATION:Hungary\, Budapest\, Budapest\, Hungary
CATEGORIES:★ Featured,Music Festival
ATTACH;FMTTYPE=image/jpeg:https://en.festtr.com/wp-content/uploads/2020/06/sziget-06.06.2020-00-01-31.jpg
END:VEVENT
BEGIN:VEVENT
DTSTART;TZID=Europe/Istanbul:20260814T050000
DTEND;TZID=Europe/Istanbul:20260818T045900
DTSTAMP:20260418T224035
CREATED:20240214T011856Z
LAST-MODIFIED:20260412T032218Z
UID:10000407-1786683600-1787029140@en.festtr.com
SUMMARY:Summer Breeze Open Air
DESCRIPTION:Summer Breeze – Open Air Metal Festival in Germany 14.08.2024 – 17.08.2024
URL:https://en.festtr.com/festival/summer-breeze/
LOCATION:Germany\, Germany
CATEGORIES:★ Featured,Music Festival
ATTACH;FMTTYPE=image/jpeg:https://en.festtr.com/wp-content/uploads/summer-breeze-14.02.2024-04-13-43.jpg
END:VEVENT
BEGIN:VEVENT
DTSTART;TZID=Europe/Istanbul:20260827T050000
DTEND;TZID=Europe/Istanbul:20260830T045900
DTSTAMP:20260418T224035
CREATED:20201029T212117Z
LAST-MODIFIED:20260412T021718Z
UID:10000344-1787806800-1788065940@en.festtr.com
SUMMARY:Sea Dance Festival
DESCRIPTION:Sea Dance Festival will take place in August 2021.
URL:https://en.festtr.com/festival/sea-dance-festival/
LOCATION:Montenegro\, Podgorica\, Podgorica\, Montenegro
CATEGORIES:★ Featured,Music Festival
ATTACH;FMTTYPE=image/jpeg:https://en.festtr.com/wp-content/uploads/sil-30.10.2020-00-19-10.jpg
END:VEVENT
BEGIN:VEVENT
DTSTART;TZID=Europe/Istanbul:20260829T120000
DTEND;TZID=Europe/Istanbul:20260830T233000
DTSTAMP:20260418T224035
CREATED:20200822T014956Z
LAST-MODIFIED:20260412T025459Z
UID:10000323-1788004800-1788132600@en.festtr.com
SUMMARY:Notting Hill Carnival
DESCRIPTION:Notting Hill Carnival will be held on 29 August 2021 – 30 August 2021 in London.
URL:https://en.festtr.com/festival/notting-hill-carnival/
LOCATION:UK\, London\, London\, United Kingdom
CATEGORIES:★ Featured,Carnival,Civic Festival,Cultural Festival
ATTACH;FMTTYPE=image/jpeg:https://en.festtr.com/wp-content/uploads/2020/08/notting-hill-festival-22.08.2020-04-53-13.jpg
END:VEVENT
BEGIN:VEVENT
DTSTART;VALUE=DATE:20260902
DTEND;VALUE=DATE:20260914
DTSTAMP:20260418T224035
CREATED:20200821T014225Z
LAST-MODIFIED:20260302T055926Z
UID:10000315-1788325200-1789275599@en.festtr.com
SUMMARY:Venice Film Festival
DESCRIPTION:The 81th Venice International Film Festival is organised by La Biennale di Venezia and directed by Alberto Barbera. The Festival is officially recognised by the FIAPF (International Federation of Film Producers Association).
URL:https://en.festtr.com/festival/venice-film-festival/
LOCATION:Italy\, Roma\, Roma\, Italy
CATEGORIES:★ Featured,Film Festival
ATTACH;FMTTYPE=image/jpeg:https://en.festtr.com/wp-content/uploads/2020/08/venice-film-festival-21.08.2020-04-39-33.jpg
END:VEVENT
BEGIN:VEVENT
DTSTART;VALUE=DATE:20260904
DTEND;VALUE=DATE:20260915
DTSTAMP:20260418T224035
CREATED:20211119T213841Z
LAST-MODIFIED:20260316T003023Z
UID:10000269-1788498000-1789361999@en.festtr.com
SUMMARY:Rock in Rio Brasil
DESCRIPTION:Rock in Rio Brasil is the Brazilian edition of the huge music festival\, which will takes place across two weekends in September.
URL:https://en.festtr.com/festival/rock-in-rio-brasil/
LOCATION:Brazil\, Brazil
CATEGORIES:★ Featured,Music Festival
ATTACH;FMTTYPE=image/jpeg:https://en.festtr.com/wp-content/uploads/rock_in_rio_0-16.03.2026-02-17-10.jpg
END:VEVENT
BEGIN:VEVENT
DTSTART;TZID=Europe/Istanbul:20260907T050000
DTEND;TZID=Europe/Istanbul:20260918T045900
DTSTAMP:20260418T224035
CREATED:20201014T212635Z
LAST-MODIFIED:20260412T031332Z
UID:10000216-1788757200-1789707540@en.festtr.com
SUMMARY:Toronto International Film Festival
DESCRIPTION:Toronto International Film Festival will be held in September.
URL:https://en.festtr.com/festival/toronto-international-film-festival/
LOCATION:Canada\, Bingemans Resort\, 425 Bingemans Centre Drive\, Kitchener\, N2B 3X7\, Canada\, Canada
CATEGORIES:★ Featured,Film Festival
ATTACH;FMTTYPE=image/jpeg:https://en.festtr.com/wp-content/uploads/tiff-15.10.2020-00-25-23.jpg
END:VEVENT
BEGIN:VEVENT
DTSTART;TZID=Europe/Istanbul:20260911T050000
DTEND;TZID=Europe/Istanbul:20260912T045900
DTSTAMP:20260418T224035
CREATED:20200820T160842Z
LAST-MODIFIED:20260412T025638Z
UID:10000308-1789102800-1789189140@en.festtr.com
SUMMARY:Transmission Festival
DESCRIPTION:Transmission Trance Music Festival will be held in September.
URL:https://en.festtr.com/festival/transmission/
LOCATION:Czech Republic\, Prague\, Prague\, Czech Republic
CATEGORIES:★ Featured,Music Festival
ATTACH;FMTTYPE=image/jpeg:https://en.festtr.com/wp-content/uploads/2020/08/transmission-20.08.2020-19-05-29.jpg
END:VEVENT
BEGIN:VEVENT
DTSTART;VALUE=DATE:20260919
DTEND;VALUE=DATE:20261006
DTSTAMP:20260418T224035
CREATED:20210317T201932Z
LAST-MODIFIED:20260302T043702Z
UID:10000240-1789794000-1791176399@en.festtr.com
SUMMARY:Oktoberfest
DESCRIPTION:The 190th Oktoberfest will be held at Munich’s Theresienwiese from September to October.
URL:https://en.festtr.com/festival/oktoberfest/
LOCATION:Germany\, Germany
CATEGORIES:★ Featured,Cultural Festival,Food & Drink Festival,Historical
ATTACH;FMTTYPE=image/jpeg:https://en.festtr.com/wp-content/uploads/oktoberfest-17.03.2021-23-18-12.jpg
END:VEVENT
END:VCALENDAR